{"text_format":"1","workbook":"xlsx","n_sheets":2,"sheets":["Datos","Estadisticas"],"not_rendered":{"charts":14,"images":6,"macros":1,"external_links":0,"defined_names":1,"comments":0,"pivot_tables":0},"unopened":[],"bounds":{"document_bytes":16777216,"sheet_cells":100000,"rows_first":2000,"rows_last":500,"rows_between":2000,"halvings":0,"cell_chars":16384,"cell_head_chars":4096},"cells_cut":0,"cells_raw":0,"read":"whole","date_system":"1900"}

{"sheet":"Datos","index":0,"n_rows":139,"n_cols":32,"rows_kept":139,"cut":false,"hidden":true,"merged":[[105,0,105,14],[106,0,107,0],[106,1,107,1],[106,2,106,14],[123,0,124,0],[123,1,124,1],[123,2,123,14],[94,1,96,1],[98,0,99,0],[98,1,99,1],[98,2,98,14],[101,1,103,1],[84,0,85,0],[84,1,85,1],[84,2,84,14],[87,1,89,1],[91,0,92,0],[91,1,92,1],[91,2,91,14],[73,1,75,1],[77,0,78,0],[77,1,78,1],[77,2,77,14],[80,1,82,1],[63,0,64,0],[63,1,64,1],[63,2,63,14],[66,1,68,1],[70,0,71,0],[70,1,71,1],[70,2,70,14],[56,0,57,0],[56,1,57,1],[56,2,56,14],[58,1,60,1],[62,0,62,14],[50,0,51,0],[50,1,51,1],[50,2,50,14],[52,1,54,1],[49,0,49,14],[41,0,42,0],[41,1,42,1],[41,2,41,14],[12,1,15,1],[0,2,0,3],[1,2,1,3],[17,0,17,14],[18,0,19,0],[18,1,19,1],[18,2,18,14],[3,0,4,0],[3,1,4,1],[3,2,3,14],[5,1,8,1],[2,0,2,14],[10,0,11,0],[25,0,26,0],[25,1,26,1],[25,2,25,14],[27,1,30,1],[33,0,34,0],[33,1,34,1],[33,2,33,14],[32,0,32,14],[3,17,4,17],[3,18,4,18],[3,19,3,31],[5,18,8,18],[43,1,47,1],[20,1,23,1],[35,1,39,1],[10,1,11,1],[10,2,10,14],[18,17,19,17],[18,18,19,18],[18,19,18,31],[20,18,23,18],[33,17,34,17],[33,18,34,18],[33,19,33,31],[106,17,107,17],[106,18,107,18],[106,19,106,31],[35,18,39,18],[50,17,51,17],[50,18,51,18],[50,19,50,31],[52,18,54,18]]}
[null,"Mes:",null,null,{"$f":"MID(P1,1,3)","v":"Ene"},1,null,null,null,null,null,null,null,null,null,"Enero"]
[null,"Año:",2016,null,null,null,null,null,null,null,null,null,null,null,null,"Febrero"]
["VOLUMEN DE SERVICIOS FINANCIEROS BÁSICOS",null,null,null,null,null,null,null,null,null,null,null,null,null,null,"Marzo"]
["VOLUMEN","Unidad de Medida",{"$f":"C2","v":2016},null,null,null,null,null,null,null,null,null,null,null,null,"Abril",null,"VOLUMEN","Unidad de Medida",{"$f":"CONCATENATE(\"VARIACIÓN \",C2,\"/\",C2-1,\" (%)\")","v":"VARIACIÓN 2016/2015 (%)"}]
[null,null,"Ene","Feb","Mar","Abr","May","Jun","Jul","Ago","Sep","Oct","Nov","Dic","Total","Mayo",null,null,null,"Ene","Feb","Mar","Abr","May","Jun","Jul","Ago","Sep","Oct","Nov","Dic","Total"]
["Servicios Financieros Básicos (I + II + III)","Miles de Operaciones",{"$f":"SUM(C7:C9)","v":3332.576},0,0,0,0,0,0,0,0,0,0,0,{"$f":"SUM(C6:N6)","v":3332.576},"Junio",null,"Servicios Financieros Básicos (I + II + III)","Miles de Operaciones",{"$f":"(C6/C13-1)*100","v":1.292009770010849},{"$error":"#DIV/0!"},{"$error":"#DIV/0!"},{"$error":"#DIV/0!"},{"$error":"#DIV/0!"},{"$error":"#DIV/0!"},{"$error":"#DIV/0!"},{"$error":"#DIV/0!"},{"$error":"#DIV/0!"},{"$error":"#DIV/0!"},{"$error":"#DIV/0!"},{"$error":"#DIV/0!"},1.292009770010849]
["Remesas Internacionales de Dinero",null,311.54300000000001,null,null,null,null,null,null,null,null,null,null,null,{"$f":"SUM(C7:N7)","v":311.54300000000001},"Julio",null,"I.- Remesas Internacionales de Dinero ",null,9.0829195873978641,{"$f":"(D7/D14-1)*100","v":{"$error":"#DIV/0!"}},{"$error":"#DIV/0!"},{"$error":"#DIV/0!"},{"$error":"#DIV/0!"},{"$error":"#DIV/0!"},{"$error":"#DIV/0!"},{"$error":"#DIV/0!"},{"$error":"#DIV/0!"},{"$error":"#DIV/0!"},{"$error":"#DIV/0!"},{"$error":"#DIV/0!"},9.0829195873978641]
["Remesas Nacionales de Dinero",null,2919.1709999999998,null,null,null,null,null,null,null,null,null,null,null,{"$f":"SUM(C8:N8)","v":2919.1709999999998},"Agosto",null,"II.- Remesas Nacionales de Dinero",null,0.72059831224384752,{"$error":"#DIV/0!"},{"$error":"#DIV/0!"},{"$error":"#DIV/0!"},{"$error":"#DIV/0!"},{"$error":"#DIV/0!"},{"$error":"#DIV/0!"},{"$error":"#DIV/0!"},{"$error":"#DIV/0!"},{"$error":"#DIV/0!"},{"$error":"#DIV/0!"},{"$error":"#DIV/0!"},0.72059831224384752]
["Servicios de Comunicación",null,101.86199999999999,null,null,null,null,null,null,null,null,null,null,null,{"$f":"SUM(C9:N9)","v":101.86199999999999},"Septiembre",null,"III.- Servicios de Comunicación",null,-4.0666792239593246,{"$error":"#DIV/0!"},{"$error":"#DIV/0!"},{"$error":"#DIV/0!"},{"$error":"#DIV/0!"},{"$error":"#DIV/0!"},{"$error":"#DIV/0!"},{"$error":"#DIV/0!"},{"$error":"#DIV/0!"},{"$error":"#DIV/0!"},{"$error":"#DIV/0!"},{"$error":"#DIV/0!"},-4.0666792239593246]
[null,null,null,null,null,null,null,null,null,null,null,null,null,null,null,"Octubre"]
["VOLUMEN","Unidad de Medida",{"$f":"C4-1","v":2015},null,null,null,null,null,null,null,null,null,null,null,null,"Noviembre"]
[null,null,"Ene","Feb","Mar","Abr","May","Jun","Jul","Ago","Sep","Oct","Nov","Dic","Total","Diciembre"]
["Servicios Financieros Básicos (I + II + III)","Miles de Operaciones",{"$f":"SUM(C14:C16)","v":3290.0679999999998},0,0,0,0,0,0,0,0,0,0,0,{"$f":"SUM(C13:N13)","v":3290.0679999999998}]
["Remesas Internacionales de Dinero",null,285.60199999999998,null,null,null,null,null,null,null,null,null,null,null,{"$f":"SUM(C14:N14)","v":285.60199999999998},"ENERO 2016"]
["Remesas Nacionales de Dinero",null,2898.2860000000001,null,null,null,null,null,null,null,null,null,null,null,{"$f":"SUM(C15:N15)","v":2898.2860000000001},"VARIACIÓN ENERO 2016/2015 (%)"]
["Servicios de Comunicación",null,106.18,null,null,null,null,null,null,null,null,null,null,null,{"$f":"SUM(C16:N16)","v":106.18},"ENERO 2015"]
[]
["VOLUMEN DE REMESAS INTERNACIONALES DE DINERO"]
["VOLUMEN","Unidad de Medida",{"$f":"C2","v":2016},null,null,null,null,null,null,null,null,null,null,null,null,null,null,"VOLUMEN","Unidad de Medida",{"$f":"CONCATENATE(\"VARIACIÓN \",C2,\"/\",C2-1,\" (%)\")","v":"VARIACIÓN 2016/2015 (%)"}]
[null,null,"Ene","Feb","Mar","Abr","May","Jun","Jul","Ago","Sep","Oct","Nov","Dic","Total",null,null,null,null,"Ene","Feb","Mar","Abr","May","Jun","Jul","Ago","Sep","Oct","Nov","Dic","Total"]
["I.- Remesas Internacionales de Dinero ","Miles de Operaciones",{"$f":"SUM(C22:C24)","v":311.54300000000001},0,0,0,0,0,0,0,0,0,0,0,{"$f":"SUM(C21:N21)","v":311.54300000000001},null,null,"I.- Remesas Internacionales de Dinero ","Miles de Operaciones",{"$f":"(C21/C28-1)*100","v":9.0829195873978641},{"$error":"#DIV/0!"},{"$error":"#DIV/0!"},{"$error":"#DIV/0!"},{"$error":"#DIV/0!"},{"$error":"#DIV/0!"},{"$error":"#DIV/0!"},{"$error":"#DIV/0!"},{"$error":"#DIV/0!"},{"$error":"#DIV/0!"},{"$error":"#DIV/0!"},{"$error":"#DIV/0!"},9.0829195873978641]
["Giro telegráfico internacional",null,9.9969999999999999,null,null,null,null,null,null,null,null,null,null,null,{"$f":"SUM(C22:N22)","v":9.9969999999999999},null,null,"Giro telegráfico",null,3.7463677874636891,{"$error":"#DIV/0!"},{"$error":"#DIV/0!"},{"$error":"#DIV/0!"},{"$error":"#DIV/0!"},{"$error":"#DIV/0!"},{"$error":"#DIV/0!"},{"$error":"#DIV/0!"},{"$error":"#DIV/0!"},{"$error":"#DIV/0!"},{"$error":"#DIV/0!"},{"$error":"#DIV/0!"},3.7463677874636891]
["Servicios de Western Union Financial Services",null,84.18,null,null,null,null,null,null,null,null,null,null,null,{"$f":"SUM(C23:N23)","v":84.18},null,null,"Servicios de Western Union Financial Services",null,0.13441659628630198,{"$error":"#DIV/0!"},{"$error":"#DIV/0!"},{"$error":"#DIV/0!"},{"$error":"#DIV/0!"},{"$error":"#DIV/0!"},{"$error":"#DIV/0!"},{"$error":"#DIV/0!"},{"$error":"#DIV/0!"},{"$error":"#DIV/0!"},{"$error":"#DIV/0!"},{"$error":"#DIV/0!"},0.13441659628630198]
["Giro Paisano",null,217.36599999999999,null,null,null,null,null,null,null,null,null,null,null,{"$f":"SUM(C24:N24)","v":217.36599999999999},null,null,"Giro Paisano",null,13.271043621905253,{"$error":"#DIV/0!"},{"$error":"#DIV/0!"},{"$error":"#DIV/0!"},{"$error":"#DIV/0!"},{"$error":"#DIV/0!"},{"$error":"#DIV/0!"},{"$error":"#DIV/0!"},{"$error":"#DIV/0!"},{"$error":"#DIV/0!"},{"$error":"#DIV/0!"},{"$error":"#DIV/0!"},13.271043621905253]
[]
["VOLUMEN","Unidad de Medida",{"$f":"C19-1","v":2015}]
[null,null,"Ene","Feb","Mar","Abr","May","Jun","Jul","Ago","Sep","Oct","Nov","Dic","Total"]
["I.- Remesas Internacionales de Dinero ","Miles de Operaciones",{"$f":"SUM(C29:C31)","v":285.60199999999998},0,0,0,0,0,0,0,0,0,0,0,{"$f":"SUM(C28:N28)","v":285.60199999999998}]
["Giro telegráfico internacional",null,9.6359999999999992,null,null,null,null,null,null,null,null,null,null,null,{"$f":"SUM(C29:N29)","v":9.6359999999999992}]
["Servicios de Western Union Financial Services",null,84.066999999999993,null,null,null,null,null,null,null,null,null,null,null,{"$f":"SUM(C30:N30)","v":84.066999999999993}]
["Giro Paisano",null,191.899,null,null,null,null,null,null,null,null,null,null,null,{"$f":"SUM(C31:N31)","v":191.899}]
[]
["VOLUMEN DE REMESAS NACIONALES DE DINERO"]
["VOLUMEN","Unidad de Medida",{"$f":"C2","v":2016},null,null,null,null,null,null,null,null,null,null,null,null,null,null,"VOLUMEN","Unidad de Medida",{"$f":"CONCATENATE(\"VARIACIÓN \",C2,\"/\",C2-1,\" (%)\")","v":"VARIACIÓN 2016/2015 (%)"}]
[null,null,"Ene","Feb","Mar","Abr","May","Jun","Jul","Ago","Sep","Oct","Nov","Dic","Total",null,null,null,null,"Ene","Feb","Mar","Abr","May","Jun","Jul","Ago","Sep","Oct","Nov","Dic","Total"]
["II.- Remesas Nacionales de Dinero","Miles de Operaciones",{"$f":"SUM(C37:C40)","v":2919.1709999999998},0,0,0,0,0,0,0,0,0,0,0,{"$f":"SUM(C36:N36)","v":2919.1709999999998},null,null,"II.- Remesas Nacionales de Dinero","Miles de Operaciones",{"$f":"(C36/C44-1)*100","v":0.72059831224384752},{"$error":"#DIV/0!"},{"$error":"#DIV/0!"},{"$error":"#DIV/0!"},{"$error":"#DIV/0!"},{"$error":"#DIV/0!"},{"$error":"#DIV/0!"},{"$error":"#DIV/0!"},{"$error":"#DIV/0!"},{"$error":"#DIV/0!"},{"$error":"#DIV/0!"},{"$error":"#DIV/0!"},0.72059831224384752]
["Giro telegráfico nacional",null,190.57599999999999,null,null,null,null,null,null,null,null,null,null,null,{"$f":"SUM(C37:N37)","v":190.57599999999999},null,null,"Giro telegráfico",null,-11.588635899719801,{"$error":"#DIV/0!"},{"$error":"#DIV/0!"},{"$error":"#DIV/0!"},{"$error":"#DIV/0!"},{"$error":"#DIV/0!"},{"$error":"#DIV/0!"},{"$error":"#DIV/0!"},{"$error":"#DIV/0!"},{"$error":"#DIV/0!"},{"$error":"#DIV/0!"},{"$error":"#DIV/0!"},-11.588635899719801]
["Pago a Programas Sociales",null,102.129,null,null,null,null,null,null,null,null,null,null,null,{"$f":"SUM(C38:N38)","v":102.129},null,null,"Pago a Programas Sociales",null,188.98981324278438,{"$error":"#DIV/0!"},{"$error":"#DIV/0!"},{"$error":"#DIV/0!"},{"$error":"#DIV/0!"},{"$error":"#DIV/0!"},{"$error":"#DIV/0!"},{"$error":"#DIV/0!"},{"$error":"#DIV/0!"},{"$error":"#DIV/0!"},{"$error":"#DIV/0!"},{"$error":"#DIV/0!"},188.98981324278438]
["Servicios a Cuenta de Terceros",null,1620.7619999999999,null,null,null,null,null,null,null,null,null,null,null,{"$f":"SUM(C39:N39)","v":1620.7619999999999},null,null,"Servicios a Cuenta de Terceros",null,-4.9924117592232804,{"$error":"#DIV/0!"},{"$error":"#DIV/0!"},{"$error":"#DIV/0!"},{"$error":"#DIV/0!"},{"$error":"#DIV/0!"},{"$error":"#DIV/0!"},{"$error":"#DIV/0!"},{"$error":"#DIV/0!"},{"$error":"#DIV/0!"},{"$error":"#DIV/0!"},{"$error":"#DIV/0!"},-4.9924117592232804]
["Corresponsalía Bancaria",null,1005.704,null,null,null,null,null,null,null,null,null,null,null,{"$f":"SUM(C40:N40)","v":1005.704},null,null,"Corresponsalía Bancaria",null,6.8237558433116074,{"$error":"#DIV/0!"},{"$error":"#DIV/0!"},{"$error":"#DIV/0!"},{"$error":"#DIV/0!"},{"$error":"#DIV/0!"},{"$error":"#DIV/0!"},{"$error":"#DIV/0!"},{"$error":"#DIV/0!"},{"$error":"#DIV/0!"},{"$error":"#DIV/0!"},{"$error":"#DIV/0!"},6.8237558433116074]
[]
["VOLUMEN","Unidad de Medida",{"$f":"C34-1","v":2015}]
[null,null,"Ene","Feb","Mar","Abr","May","Jun","Jul","Ago","Sep","Oct","Nov","Dic","Total"]
["II.- Remesas Nacionales de Dinero","Miles de Operaciones",{"$f":"SUM(C45:C48)","v":2898.2860000000001},0,0,0,0,0,0,0,0,0,0,0,{"$f":"SUM(C44:N44)","v":2898.2860000000001}]
["Giro telegráfico nacional",null,215.55600000000001,null,null,null,null,null,null,null,null,null,null,null,{"$f":"SUM(C45:N45)","v":215.55600000000001}]
["Pago a Programas Sociales",null,35.340000000000003,null,null,null,null,null,null,null,null,null,null,null,{"$f":"SUM(C46:N46)","v":35.340000000000003}]
["Servicios a Cuenta de Terceros",null,1705.9290000000001,null,null,null,null,null,null,null,null,null,null,null,{"$f":"SUM(C47:N47)","v":1705.9290000000001}]
["Corresponsalía Bancaria",null,941.46100000000001,null,null,null,null,null,null,null,null,null,null,null,{"$f":"SUM(C48:N48)","v":941.46100000000001}]
[]
["VOLUMEN DE SERVICIOS DE COMUNICACIÓN"]
["VOLUMEN","Unidad de Medida",{"$f":"C2","v":2016},null,null,null,null,null,null,null,null,null,null,null,null,null,null,"VOLUMEN","Unidad de Medida",{"$f":"CONCATENATE(\"VARIACIÓN \",C2,\"/\",C2-1,\" (%)\")","v":"VARIACIÓN 2016/2015 (%)"}]
[null,null,"Ene","Feb","Mar","Abr","May","Jun","Jul","Ago","Sep","Oct","Nov","Dic","Total",null,null,null,null,"Ene","Feb","Mar","Abr","May","Jun","Jul","Ago","Sep","Oct","Nov","Dic","Total"]
["III.- Servicios de Comunicación","Miles de Operaciones",{"$f":"SUM(C54:C55)","v":101.86199999999999},0,0,0,0,0,0,0,0,0,0,0,{"$f":"SUM(C53:N53)","v":101.86199999999999},null,null,"III.- Servicios de Comunicación","Miles de Operaciones",{"$f":"(C53/C59-1)*100","v":-4.0666792239593246},{"$error":"#DIV/0!"},{"$error":"#DIV/0!"},{"$error":"#DIV/0!"},{"$error":"#DIV/0!"},{"$error":"#DIV/0!"},{"$error":"#DIV/0!"},{"$error":"#DIV/0!"},{"$error":"#DIV/0!"},{"$error":"#DIV/0!"},{"$error":"#DIV/0!"},{"$error":"#DIV/0!"},-4.0666792239593246]
["Telegramas",null,101.83799999999999,null,null,null,null,null,null,null,null,null,null,null,{"$f":"SUM(C54:N54)","v":101.83799999999999},null,null,"   Telegramas",null,-4.0214881485321268,{"$error":"#DIV/0!"},{"$error":"#DIV/0!"},{"$error":"#DIV/0!"},{"$error":"#DIV/0!"},{"$error":"#DIV/0!"},{"$error":"#DIV/0!"},{"$error":"#DIV/0!"},{"$error":"#DIV/0!"},{"$error":"#DIV/0!"},{"$error":"#DIV/0!"},{"$error":"#DIV/0!"},-4.0214881485321268]
["Fax",null,2.4E-2,null,null,null,null,null,null,null,null,null,null,null,{"$f":"SUM(C55:N55)","v":2.4E-2},null,null,"   Fax",null,-68,{"$error":"#DIV/0!"},{"$error":"#DIV/0!"},{"$error":"#DIV/0!"},{"$error":"#DIV/0!"},{"$error":"#DIV/0!"},{"$error":"#DIV/0!"},{"$error":"#DIV/0!"},{"$error":"#DIV/0!"},{"$error":"#DIV/0!"},{"$error":"#DIV/0!"},{"$error":"#DIV/0!"},-68]
[]
["VOLUMEN","Unidad de Medida",{"$f":"C51-1","v":2015}]
[null,null,"Ene","Feb","Mar","Abr","May","Jun","Jul","Ago","Sep","Oct","Nov","Dic","Total"]
["III.- Servicios de Comunicación","Miles de Operaciones",{"$f":"SUM(C60:C61)","v":106.18},0,0,0,0,0,0,0,0,0,0,0,{"$f":"SUM(C59:N59)","v":106.18}]
["Telegramas",null,106.105,null,null,null,null,null,null,null,null,null,null,null,{"$f":"SUM(C60:N60)","v":106.105}]
["Fax",null,7.4999999999999997E-2,null,null,null,null,null,null,null,null,null,null,null,{"$f":"SUM(C61:N61)","v":7.4999999999999997E-2}]
[]
["VOLUMEN DE SERVICIOS MÓVILES SATELITALES"]
["SERVICIOS MÓVILES SATELITALES","Unidad de Medida",{"$f":"C2","v":2016}]
[null,null,"Ene","Feb","Mar","Abr","May","Jun","Jul","Ago","Sep","Oct","Nov","Dic","Total"]
["MOVISAT VOZ"]
["Terminales","Terminales",{"$f":"SUM(C68:C69)","v":7178},0,0,0,0,0,0,0,0,0,0,0,7178]
[" Telefonía Rural Banda KU",null,3389,null,null,null,null,null,null,null,null,null,null,null,3389]
["Telefonía Rural Banda KU (11K)",null,3789,null,null,null,null,null,null,null,null,null,null,null,3789]
[]
["SERVICIOS MÓVILES SATELITALES","Unidad de Medida",{"$f":"C64-1","v":2015}]
[null,null,"Ene","Feb","Mar","Abr","May","Jun","Jul","Ago","Sep","Oct","Nov","Dic","Total"]
["MOVISAT VOZ"]
["Terminales","Terminales",{"$f":"SUM(C75:C76)","v":7200},0,0,0,0,0,0,0,0,0,0,0,7200]
[" Telefonía Rural Banda KU",null,3387,null,null,null,null,null,null,null,null,null,null,null,3387]
["Telefonía Rural Banda KU (11K)",null,3813,null,null,null,null,null,null,null,null,null,null,null,3813]
[]
["SERVICIOS MÓVILES SATELITALES","Unidad de Medida",{"$f":"C2","v":2016}]
[null,null,"Ene","Feb","Mar","Abr","May","Jun","Jul","Ago","Sep","Oct","Nov","Dic","Total"]
["MOVISAT VOZ"]
["Minutos","Miles de minutos",{"$f":"SUM(C82:C83)","v":622.43000000000006},0,0,0,0,0,0,0,0,0,0,0,{"$f":"SUM(C81:N81)","v":622.43000000000006}]
["Telefonía Rural Banda Ku",null,279.98099999999999,null,null,null,null,null,null,null,null,null,null,null,279.98099999999999]
["Telefonía Rural Banda KU (11k)",null,342.44900000000001,null,null,null,null,null,null,null,null,null,null,null,342.44900000000001]
[]
["SERVICIOS MÓVILES SATELITALES","Unidad de Medida",{"$f":"C78-1","v":2015}]
[null,null,"Ene","Feb","Mar","Abr","May","Jun","Jul","Ago","Sep","Oct","Nov","Dic","Total"]
["MOVISAT VOZ"]
["Minutos","Miles de minutos",{"$f":"SUM(C89:C90)","v":1327.9230000000002},0,0,0,0,0,0,0,0,0,0,0,{"$f":"SUM(C88:N88)","v":1327.9230000000002}]
["Telefonía Rural Banda Ku",null,268.02300000000002,null,null,null,null,null,null,null,null,null,null,null,268.02300000000002]
["Telefonía Rural Banda KU (11k)",null,1059.9000000000001,null,null,null,null,null,null,null,null,null,null,null,1059.9000000000001]
[]
["SERVICIOS MÓVILES SATELITALES","Unidad de Medida",{"$f":"C2","v":2016}]
[null,null,"Ene","Feb","Mar","Abr","May","Jun","Jul","Ago","Sep","Oct","Nov","Dic","Total"]
["MOVISAT VOZ"]
["Llamadas","Miles de llamadas",{"$f":"SUM(C96:C97)","v":975.45799999999997},0,0,0,0,0,0,0,0,0,0,0,{"$f":"SUM(C95:N95)","v":975.45799999999997}]
["Telefonía Rural Banda Ku",null,63.545000000000002,null,null,null,null,null,null,null,null,null,null,null,63.545000000000002]
["Telefonía Rural Banda KU (11k)",null,911.91300000000001,null,null,null,null,null,null,null,null,null,null,null,911.91300000000001]
[]
["SERVICIOS MÓVILES SATELITALES","Unidad de Medida",{"$f":"C92-1","v":2015}]
[null,null,"Ene","Feb","Mar","Abr","May","Jun","Jul","Ago","Sep","Oct","Nov","Dic","Total"]
["MOVISAT VOZ"]
["Llamadas","Miles de llamadas",{"$f":"SUM(C103:C104)","v":471.02700000000004},0,0,0,0,0,0,0,0,0,0,0,{"$f":"SUM(C102:N102)","v":471.02700000000004}]
["Telefonía Rural Banda Ku",null,65.129000000000005,null,null,null,null,null,null,null,null,null,null,null,65.129000000000005]
["Telefonía Rural Banda KU (11k)",null,405.89800000000002,null,null,null,null,null,null,null,null,null,null,null,405.89800000000002]
[]
["VOLUMEN DE SERVICIOS SATELITALES DE TELEPUERTOS"]
["TELEPUERTOS","Unidad de Medida",{"$f":"C2","v":2016},null,null,null,null,null,null,null,null,null,null,null,null,null,null,"TELEPUERTOS","Unidad de Medida",{"$f":"CONCATENATE(\"VARIACIÓN \",C2,\"/\",C2-1,\" (%)\")","v":"VARIACIÓN 2016/2015 (%)"}]
[null,null,"Ene","Feb","Mar","Abr","May","Jun","Jul","Ago","Sep","Oct","Nov","Dic","Total",null,null,null,null,"Ene","Feb","Mar","Abr","May","Jun","Jul","Ago","Sep","Oct","Nov","Dic","Total"]
["Televisión",null,null,null,null,null,null,null,null,null,null,null,null,null,null,null,null,"Televisión"]
["TV Permanente","Red",4,null,null,null,null,null,null,null,null,null,null,null,4,null,null,"T.V Permanente","Red",{"$f":"(C110/C127-1)*100","v":0},{"$f":"IF(ISERROR((D110/D127-1)*100),,(D110/D127-1)*100)","v":0},{"$f":"IF(ISERROR((E110/E127-1)*100),,(E110/E127-1)*100)","v":0},{"$f":"IF(ISERROR((F110/F127-1)*100),,(F110/F127-1)*100)","v":0},{"$f":"IF(ISERROR((G110/G127-1)*100),,(G110/G127-1)*100)","v":0},{"$f":"IF(ISERROR((H110/H127-1)*100),,(H110/H127-1)*100)","v":0},{"$f":"IF(ISERROR((I110/I127-1)*100),,(I110/I127-1)*100)","v":0},{"$f":"IF(ISERROR((J110/J127-1)*100),,(J110/J127-1)*100)","v":0},{"$f":"IF(ISERROR((K110/K127-1)*100),,(K110/K127-1)*100)","v":0},{"$f":"IF(ISERROR((L110/L127-1)*100),,(L110/L127-1)*100)","v":0},{"$f":"IF(ISERROR((M110/M127-1)*100),,(M110/M127-1)*100)","v":0},{"$f":"IF(ISERROR((N110/N127-1)*100),,(N110/N127-1)*100)","v":0},{"$f":"(O110/O127-1)*100","v":0}]
["Enlaces locales","Enlaces",22,null,null,null,null,null,null,null,null,null,null,null,22,null,null,"Enlaces locales","Enlaces",0,0,0,0,0,0,0,0,0,0,0,0,0]
["Enrutamientos","Enlaces",4,null,null,null,null,null,null,null,null,null,null,null,4,null,null,"Enrutamiento","Enlaces",33.333333333333329,0,0,0,0,0,0,0,0,0,0,0,33.333333333333329]
["Estaciones Terrenas para Voz y Datos","Enlaces",1,null,null,null,null,null,null,null,null,null,null,null,1,null,null,"Estaciones Terrenas para Voz y Datos","Enlaces",0,0,0,0,0,0,0,0,0,0,0,0,0]
["Estaciones Terrenas receptoras","Eventos",1,null,null,null,null,null,null,null,null,null,null,null,{"$f":"SUM(C114:N114)","v":1},null,null,"Estaciones Terrenas receptoras","Eventos",0,0,0,0,0,0,0,0,0,0,0,0,0]
["Uso de capacidad satelital","Mhz.",144,null,null,null,null,null,null,null,null,null,null,null,144,null,null,"Uso de capacidad satelital","Mhz.",14.204139900071366,0,0,0,0,0,0,0,0,0,0,0,14.204139900071366]
["Interconexión de redes","Equipos",16,null,null,null,null,null,null,null,null,null,null,null,16,null,null,"Interconexión de redes","Equipos",6.6666666666666652,0,0,0,0,0,0,0,0,0,0,0,6.6666666666666652]
["TV ocasional","Eventos",0,null,null,null,null,null,null,null,null,null,null,null,{"$f":"SUM(C117:N117)","v":0},null,null,"T.V Ocasional","Eventos",{"$f":"IF(ISERROR((C117/C134-1)*100),,(C117/C134-1)*100)","v":0},0,0,0,0,0,0,0,0,0,0,0,{"$f":"IF(ISERROR((O117/O134-1)*100),,(O117/O134-1)*100)","v":0}]
["Giras presidenciales","Giras",6,null,null,null,null,null,null,null,null,null,null,null,{"$f":"SUM(C118:N118)","v":6},null,null,"Giras Presidenciales","Giras",{"$f":"IF(ISERROR((C118/C135-1)*100),,(C118/C135-1)*100)","v":0},0,0,0,0,0,0,0,0,0,0,0,{"$f":"IF(ISERROR((O118/O135-1)*100),,(O118/O135-1)*100)","v":0}]
["Enlaces Terrenas Transportables","Renta",0,null,null,null,null,null,null,null,null,null,null,null,{"$f":"SUM(C119:N119)","v":0},null,null,"Enlaces Terrenas Transportables","Renta",{"$f":"IF(ISERROR((C119/C136-1)*100),,(C119/C136-1)*100)","v":0},0,0,0,0,0,0,0,0,0,0,0,{"$f":"IF(ISERROR((O119/O136-1)*100),,(O119/O136-1)*100)","v":0}]
["Tiempo de arrendamiento","Días",0,null,null,null,null,null,null,null,null,null,null,null,{"$f":"SUM(C120:N120)","v":0},null,null,"  Tiempo de Arrendamiento","Días",{"$f":"IF(ISERROR((C120/C137-1)*100),,(C120/C137-1)*100)","v":0},0,0,0,0,0,0,0,0,0,0,0,{"$f":"IF(ISERROR((O120/O137-1)*100),,(O120/O137-1)*100)","v":0}]
["Centro de Datos","Unidad Interconexión (mts2)",null,null,null,null,null,null,null,null,null,null,null,null,null,null,null,"Centro de Datos","Unidad Interconexión (mts2)"]
["Hosting",null,122,null,null,null,null,null,null,null,null,null,null,null,122,null,null,"Hosting",null,{"$f":"(C122/C139-1)*100","v":0},{"$f":"IF(ISERROR((D122/D139-1)*100),,(D122/D139-1)*100)","v":0},0,0,0,0,0,0,0,0,0,0,0]
[]
["TELEPUERTOS","Unidad de Medida",{"$f":"C107-1","v":2015}]
[null,null,"Ene","Feb","Mar","Abr","May","Jun","Jul","Ago","Sep","Oct","Nov","Dic","Total"]
["Televisión"]
["TV Permanente","Red",4,null,null,null,null,null,null,null,null,null,null,null,4]
["Enlaces locales","Enlaces",22,null,null,null,null,null,null,null,null,null,null,null,22]
["Enrutamientos","Enlaces",3,null,null,null,null,null,null,null,null,null,null,null,3]
["Estaciones Terrenas para Voz y Datos","Enlaces",1,null,null,null,null,null,null,null,null,null,null,null,1]
["Estaciones Terrenas receptoras","Eventos",1,null,null,null,null,null,null,null,null,null,null,null,{"$f":"SUM(C131:N131)","v":1}]
["Uso de capacidad satelital","Mhz.",126.09,null,null,null,null,null,null,null,null,null,null,null,126.09]
["Interconexión de redes","Equipos",15,null,null,null,null,null,null,null,null,null,null,null,15]
["TV ocasional","Eventos",0,null,null,null,null,null,null,null,null,null,null,null,{"$f":"SUM(C134:N134)","v":0}]
["Giras presidenciales","Giras",0,null,null,null,null,null,null,null,null,null,null,null,{"$f":"SUM(C135:N135)","v":0}]
["Enlaces Terrenas Transportables","Renta",0,null,null,null,null,null,null,null,null,null,null,null,{"$f":"SUM(C136:N136)","v":0}]
["Tiempo de arrendamiento","Días",0,null,null,null,null,null,null,null,null,null,null,null,{"$f":"SUM(C137:N137)","v":0}]
["Centro de Datos","Unidad Interconexión (mts2)"]
["Hosting",null,122,null,null,null,null,null,null,null,null,null,null,null,122]

{"sheet":"Estadisticas","index":1,"n_rows":293,"n_cols":16,"rows_kept":293,"cut":false,"hidden":false,"merged":[[214,2,216,2],[207,2,209,2],[186,2,188,2],[179,2,181,2],[72,1,73,1],[72,2,73,2],[72,3,72,15],[14,1,14,15],[20,1,20,15],[33,11,33,15],[34,1,34,15],[64,1,64,12],[68,1,68,15],[69,1,69,15],[44,1,44,12],[74,2,77,2],[94,1,94,15],[95,1,95,15],[98,1,99,1],[98,2,99,2],[98,3,98,15],[90,6,92,14],[100,2,103,2],[120,1,120,15],[121,1,121,15],[124,1,125,1],[124,2,125,2],[124,3,124,15],[116,6,116,14],[126,2,130,2],[147,1,147,15],[148,1,148,15],[151,1,152,1],[151,2,152,2],[151,3,151,15],[143,6,143,14],[153,2,155,2],[173,1,173,15],[175,1,175,15],[176,1,177,1],[176,2,177,2],[176,3,176,15],[174,1,174,15],[169,6,169,14],[211,1,212,1],[211,2,212,2],[211,3,211,15],[183,1,184,1],[183,2,184,2],[183,3,183,15],[201,1,201,15],[202,1,202,15],[204,1,205,1],[204,2,205,2],[204,3,204,15],[257,1,257,15],[229,1,229,15],[230,1,230,15],[232,1,233,1],[232,2,233,2],[232,3,232,15],[239,1,240,1],[239,2,240,2],[239,3,239,15],[258,1,258,15],[260,1,261,1],[260,2,261,2],[260,3,260,15],[277,1,278,1],[277,2,278,2],[277,3,277,15]]}
[]
[]
[]
[]
[]
[]
[]
[]
[]
[]
[]
[]
[]
[]
[null,"REPORTE MENSUAL DE"]
[]
[]
[]
[]
[]
[null,"ESTADÍSTICAS RELEVANTES"]
[]
[]
[]
[]
[]
[]
[]
[]
[]
[]
[]
[]
[null,null,null,null,null,null,null,null,null,null,null,"ENERO 2016"]
[null,"ÍNDICE"]
[]
[]
[]
[]
[null,"VOLUMEN DE SERVICIOS FINANCIEROS BÁSICOS ENERO 2016",null,null,null,null,null,null,null,null,null,null,null,null,null,2]
[]
[]
[]
[]
[null,"VOLUMEN DE REMESAS INTERNACIONALES DE DINERO ENERO 2016",null,null,null,null,null,null,null,null,null,null,null,null,null,3]
[]
[]
[]
[]
[null,"VOLUMEN DE REMESAS NACIONALES DE DINERO ENERO 2016",null,null,null,null,null,null,null,null,null,null,null,null,null,4]
[]
[]
[]
[]
[null,"VOLUMEN DE SERVICIOS DE COMUNICACIÓN ENERO 2016",null,null,null,null,null,null,null,null,null,null,null,null,null,5]
[]
[]
[]
[]
[null,"VOLUMEN DE SERVICIOS MÓVILES SATELITALES ENERO 2016",null,null,null,null,null,null,null,null,null,null,null,null,null,6]
[]
[]
[]
[]
[null,"VOLUMEN DE SERVICIOS SATELITALES DE TELEPUERTOS ENERO 2016",null,null,null,null,null,null,null,null,null,null,null,null,null,9]
[]
[]
[]
[null,"VOLUMEN DE SERVICIOS FINANCIEROS BÁSICOS"]
[null,"ENERO 2016"]
[]
[]
[null,"VOLUMEN","Unidad de Medida",{"$f":"Datos!C4","v":2016}]
[null,null,null,"Ene","Feb","Mar","Abr","May","Jun","Jul","Ago","Sep","Oct","Nov","Dic","Total"]
[null,"Servicios Financieros Básicos (I + II + III)","Miles de Operaciones",{"$f":"Datos!C6","v":3332.576},{"$f":"Datos!D6","v":0},{"$f":"Datos!E6","v":0},{"$f":"Datos!F6","v":0},{"$f":"Datos!G6","v":0},{"$f":"Datos!H6","v":0},{"$f":"Datos!I6","v":0},{"$f":"Datos!J6","v":0},{"$f":"Datos!K6","v":0},{"$f":"Datos!L6","v":0},{"$f":"Datos!M6","v":0},{"$f":"Datos!N6","v":0},{"$f":"Datos!O6","v":3332.576}]
[null,"I.- Remesas Internacionales de Dinero ",null,{"$f":"Datos!C7","v":311.54300000000001},{"$f":"Datos!D7","v":0},{"$f":"Datos!E7","v":0},{"$f":"Datos!F7","v":0},{"$f":"Datos!G7","v":0},{"$f":"Datos!H7","v":0},{"$f":"Datos!I7","v":0},{"$f":"Datos!J7","v":0},{"$f":"Datos!K7","v":0},{"$f":"Datos!L7","v":0},{"$f":"Datos!M7","v":0},{"$f":"Datos!N7","v":0},{"$f":"Datos!O7","v":311.54300000000001}]
[null,"II.- Remesas Nacionales de Dinero",null,{"$f":"Datos!C8","v":2919.1709999999998},{"$f":"Datos!D8","v":0},{"$f":"Datos!E8","v":0},{"$f":"Datos!F8","v":0},{"$f":"Datos!G8","v":0},{"$f":"Datos!H8","v":0},{"$f":"Datos!I8","v":0},{"$f":"Datos!J8","v":0},{"$f":"Datos!K8","v":0},{"$f":"Datos!L8","v":0},{"$f":"Datos!M8","v":0},{"$f":"Datos!N8","v":0},{"$f":"Datos!O8","v":2919.1709999999998}]
[null,"III.- Servicios de Comunicación",null,{"$f":"Datos!C9","v":101.86199999999999},{"$f":"Datos!D9","v":0},{"$f":"Datos!E9","v":0},{"$f":"Datos!F9","v":0},{"$f":"Datos!G9","v":0},{"$f":"Datos!H9","v":0},{"$f":"Datos!I9","v":0},{"$f":"Datos!J9","v":0},{"$f":"Datos!K9","v":0},{"$f":"Datos!L9","v":0},{"$f":"Datos!M9","v":0},{"$f":"Datos!N9","v":0},{"$f":"Datos!O9","v":101.86199999999999}]
[]
[]
[]
[]
[]
[]
[]
[]
[]
[]
[]
[]
[null,null,null,null,null,null,"Notas: I. La disminución en el servicio de telegramas y de fax se debió al uso de nuevos medios de comunicación."]
[]
[]
[]
[null,"VOLUMEN DE REMESAS INTERNACIONALES DE DINERO"]
[null,"ENERO 2016"]
[]
[]
[null,"VOLUMEN","Unidad de Medida",{"$f":"Datos!C19","v":2016}]
[null,null,null,"Ene","Feb","Mar","Abr","May","Jun","Jul","Ago","Sep","Oct","Nov","Dic","Total"]
[null,"I.- Remesas Internacionales de Dinero ","Miles de Operaciones",{"$f":"Datos!C21","v":311.54300000000001},{"$f":"Datos!D21","v":0},{"$f":"Datos!E21","v":0},{"$f":"Datos!F21","v":0},{"$f":"Datos!G21","v":0},{"$f":"Datos!H21","v":0},{"$f":"Datos!I21","v":0},{"$f":"Datos!J21","v":0},{"$f":"Datos!K21","v":0},{"$f":"Datos!L21","v":0},{"$f":"Datos!M21","v":0},{"$f":"Datos!N21","v":0},{"$f":"Datos!O21","v":311.54300000000001}]
[null,"Giro telegráfico",null,{"$f":"Datos!C22","v":9.9969999999999999},{"$f":"Datos!D22","v":0},{"$f":"Datos!E22","v":0},{"$f":"Datos!F22","v":0},{"$f":"Datos!G22","v":0},{"$f":"Datos!H22","v":0},{"$f":"Datos!I22","v":0},{"$f":"Datos!J22","v":0},{"$f":"Datos!K22","v":0},{"$f":"Datos!L22","v":0},{"$f":"Datos!M22","v":0},{"$f":"Datos!N22","v":0},{"$f":"Datos!O22","v":9.9969999999999999}]
[null,"Servicios de Western Union Financial Services",null,{"$f":"Datos!C23","v":84.18},{"$f":"Datos!D23","v":0},{"$f":"Datos!E23","v":0},{"$f":"Datos!F23","v":0},{"$f":"Datos!G23","v":0},{"$f":"Datos!H23","v":0},{"$f":"Datos!I23","v":0},{"$f":"Datos!J23","v":0},{"$f":"Datos!K23","v":0},{"$f":"Datos!L23","v":0},{"$f":"Datos!M23","v":0},{"$f":"Datos!N23","v":0},{"$f":"Datos!O23","v":84.18}]
[null,"Giro Paisano",null,{"$f":"Datos!C24","v":217.36599999999999},{"$f":"Datos!D24","v":0},{"$f":"Datos!E24","v":0},{"$f":"Datos!F24","v":0},{"$f":"Datos!G24","v":0},{"$f":"Datos!H24","v":0},{"$f":"Datos!I24","v":0},{"$f":"Datos!J24","v":0},{"$f":"Datos!K24","v":0},{"$f":"Datos!L24","v":0},{"$f":"Datos!M24","v":0},{"$f":"Datos!N24","v":0},{"$f":"Datos!O24","v":217.36599999999999}]
[]
[]
[]
[]
[]
[]
[]
[]
[]
[]
[]
[]
[null,null,null,null,null,null,"Notas: La disminución de la operación se debe a la competencia que realizan las empresas que proporcionan \n              servicios similares."]
[]
[]
[]
[null,"VOLUMEN DE REMESAS NACIONALES DE DINERO"]
[null,"ENERO 2016"]
[]
[]
[null,"VOLUMEN","Unidad de Medida",{"$f":"Datos!C34","v":2016}]
[null,null,null,"Ene","Feb","Mar","Abr","May","Jun","Jul","Ago","Sep","Oct","Nov","Dic","Total"]
[null,"II.- Remesas Nacionales de Dinero","Miles de Operaciones",{"$f":"Datos!C36","v":2919.1709999999998},{"$f":"Datos!D36","v":0},{"$f":"Datos!E36","v":0},{"$f":"Datos!F36","v":0},{"$f":"Datos!G36","v":0},{"$f":"Datos!H36","v":0},{"$f":"Datos!I36","v":0},{"$f":"Datos!J36","v":0},{"$f":"Datos!K36","v":0},{"$f":"Datos!L36","v":0},{"$f":"Datos!M36","v":0},{"$f":"Datos!N36","v":0},{"$f":"Datos!O36","v":2919.1709999999998}]
[null,"Giro telegráfico",null,{"$f":"Datos!C37","v":190.57599999999999},{"$f":"Datos!D37","v":0},{"$f":"Datos!E37","v":0},{"$f":"Datos!F37","v":0},{"$f":"Datos!G37","v":0},{"$f":"Datos!H37","v":0},{"$f":"Datos!I37","v":0},{"$f":"Datos!J37","v":0},{"$f":"Datos!K37","v":0},{"$f":"Datos!L37","v":0},{"$f":"Datos!M37","v":0},{"$f":"Datos!N37","v":0},{"$f":"Datos!O37","v":190.57599999999999}]
[null,"Pago a Programas Sociales",null,{"$f":"Datos!C38","v":102.129},{"$f":"Datos!D38","v":0},{"$f":"Datos!E38","v":0},{"$f":"Datos!F38","v":0},{"$f":"Datos!G38","v":0},{"$f":"Datos!H38","v":0},{"$f":"Datos!I38","v":0},{"$f":"Datos!J38","v":0},{"$f":"Datos!K38","v":0},{"$f":"Datos!L38","v":0},{"$f":"Datos!M38","v":0},{"$f":"Datos!N38","v":0},{"$f":"Datos!O38","v":102.129}]
[null,"Servicios a Cuenta de Terceros",null,{"$f":"Datos!C39","v":1620.7619999999999},{"$f":"Datos!D39","v":0},{"$f":"Datos!E39","v":0},{"$f":"Datos!F39","v":0},{"$f":"Datos!G39","v":0},{"$f":"Datos!H39","v":0},{"$f":"Datos!I39","v":0},{"$f":"Datos!J39","v":0},{"$f":"Datos!K39","v":0},{"$f":"Datos!L39","v":0},{"$f":"Datos!M39","v":0},{"$f":"Datos!N39","v":0},{"$f":"Datos!O39","v":1620.7619999999999}]
[null,"Corresponsalía Bancaria",null,{"$f":"Datos!C40","v":1005.704},{"$f":"Datos!D40","v":0},{"$f":"Datos!E40","v":0},{"$f":"Datos!F40","v":0},{"$f":"Datos!G40","v":0},{"$f":"Datos!H40","v":0},{"$f":"Datos!I40","v":0},{"$f":"Datos!J40","v":0},{"$f":"Datos!K40","v":0},{"$f":"Datos!L40","v":0},{"$f":"Datos!M40","v":0},{"$f":"Datos!N40","v":0},{"$f":"Datos!O40","v":1005.704}]
[]
[]
[]
[]
[]
[]
[]
[]
[]
[]
[]
[]
[]
[]
[null,null,null,null,null,null,null,null," "]
[]
[null,"VOLUMEN DE SERVICIOS DE COMUNICACIÓN"]
[null,"ENERO 2016"]
[]
[]
[null,"VOLUMEN","Unidad de Medida",{"$f":"Datos!C51","v":2016}]
[null,null,null,"Ene","Feb","Mar","Abr","May","Jun","Jul","Ago","Sep","Oct","Nov","Dic","Total"]
[null,"III.- Servicios de Comunicación","Miles de Operaciones",{"$f":"Datos!C53","v":101.86199999999999},{"$f":"Datos!D53","v":0},{"$f":"Datos!E53","v":0},{"$f":"Datos!F53","v":0},{"$f":"Datos!G53","v":0},{"$f":"Datos!H53","v":0},{"$f":"Datos!I53","v":0},{"$f":"Datos!J53","v":0},{"$f":"Datos!K53","v":0},{"$f":"Datos!L53","v":0},{"$f":"Datos!M53","v":0},{"$f":"Datos!N53","v":0},{"$f":"Datos!O53","v":101.86199999999999}]
[null,"   Telegramas",null,{"$f":"Datos!C54","v":101.83799999999999},{"$f":"Datos!D54","v":0},{"$f":"Datos!E54","v":0},{"$f":"Datos!F54","v":0},{"$f":"Datos!G54","v":0},{"$f":"Datos!H54","v":0},{"$f":"Datos!I54","v":0},{"$f":"Datos!J54","v":0},{"$f":"Datos!K54","v":0},{"$f":"Datos!L54","v":0},{"$f":"Datos!M54","v":0},{"$f":"Datos!N54","v":0},{"$f":"Datos!O54","v":101.83799999999999}]
[null,"   Fax",null,{"$f":"Datos!C55","v":2.4E-2},{"$f":"Datos!D55","v":0},{"$f":"Datos!E55","v":0},{"$f":"Datos!F55","v":0},{"$f":"Datos!G55","v":0},{"$f":"Datos!H55","v":0},{"$f":"Datos!I55","v":0},{"$f":"Datos!J55","v":0},{"$f":"Datos!K55","v":0},{"$f":"Datos!L55","v":0},{"$f":"Datos!M55","v":0},{"$f":"Datos!N55","v":0},{"$f":"Datos!O55","v":2.4E-2}]
[]
[]
[]
[]
[]
[]
[]
[]
[]
[]
[]
[]
[]
[null,null,null,null,null,null,"Nota: La disminución en el servicio de telegramas y de fax se debió al uso de nuevos medios de comunicación."]
[]
[]
[]
[null,"VOLUMEN DE SERVICIOS MÓVILES SATELITALES"]
[null,"ENERO 2016"]
[]
[null,"SERVICIOS MÓVILES SATELITALES","Unidad de Medida",{"$f":"Datos!C71","v":2015}]
[null,null,null,"Ene","Feb","Mar","Abr","May","Jun","Jul","Ago","Sep","Oct","Nov","Dic","Total"]
[null,"MOVISAT VOZ"]
[null,"Terminales","Terminales",{"$f":"Datos!C74","v":7200},{"$f":"Datos!D74","v":0},{"$f":"Datos!E74","v":0},{"$f":"Datos!F74","v":0},{"$f":"Datos!G74","v":0},{"$f":"Datos!H74","v":0},{"$f":"Datos!I74","v":0},{"$f":"Datos!J74","v":0},{"$f":"Datos!K74","v":0},{"$f":"Datos!L74","v":0},{"$f":"Datos!M74","v":0},{"$f":"Datos!N74","v":0},{"$f":"Datos!O74","v":7200}]
[null," Telefonía Rural Banda KU",null,{"$f":"Datos!C75","v":3387},{"$f":"Datos!D75","v":0},{"$f":"Datos!E75","v":0},{"$f":"Datos!F75","v":0},{"$f":"Datos!G75","v":0},{"$f":"Datos!H75","v":0},{"$f":"Datos!I75","v":0},{"$f":"Datos!J75","v":0},{"$f":"Datos!K75","v":0},{"$f":"Datos!L75","v":0},{"$f":"Datos!M75","v":0},{"$f":"Datos!N75","v":0},{"$f":"Datos!O75","v":3387}]
[null," Telefonía Rural Banda Ku (11K)",null,{"$f":"Datos!C76","v":3813},{"$f":"Datos!D76","v":0},{"$f":"Datos!E76","v":0},{"$f":"Datos!F76","v":0},{"$f":"Datos!G76","v":0},{"$f":"Datos!H76","v":0},{"$f":"Datos!I76","v":0},{"$f":"Datos!J76","v":0},{"$f":"Datos!K76","v":0},{"$f":"Datos!L76","v":0},{"$f":"Datos!M76","v":0},{"$f":"Datos!N76","v":0},{"$f":"Datos!O76","v":3813}]
[]
[null,"SERVICIOS MÓVILES SATELITALES","Unidad de Medida",{"$f":"Datos!C64","v":2016}]
[null,null,null,"Ene","Feb","Mar","Abr","May","Jun","Jul","Ago","Sep","Oct","Nov","Dic","Total"]
[null,"MOVISAT VOZ"]
[null,"Terminales","Terminales",{"$f":"Datos!C67","v":7178},{"$f":"Datos!D67","v":0},{"$f":"Datos!E67","v":0},{"$f":"Datos!F67","v":0},{"$f":"Datos!G67","v":0},{"$f":"Datos!H67","v":0},{"$f":"Datos!I67","v":0},{"$f":"Datos!J67","v":0},{"$f":"Datos!K67","v":0},{"$f":"Datos!L67","v":0},{"$f":"Datos!M67","v":0},{"$f":"Datos!N67","v":0},{"$f":"Datos!O67","v":7178}]
[null,"Telefonía Rural Banda KU",null,{"$f":"Datos!C68","v":3389},{"$f":"Datos!D68","v":0},{"$f":"Datos!E68","v":0},{"$f":"Datos!F68","v":0},{"$f":"Datos!G68","v":0},{"$f":"Datos!H68","v":0},{"$f":"Datos!I68","v":0},{"$f":"Datos!J68","v":0},{"$f":"Datos!K68","v":0},{"$f":"Datos!L68","v":0},{"$f":"Datos!M68","v":0},{"$f":"Datos!N68","v":0},{"$f":"Datos!O68","v":3389}]
[null,"Telefonía Rural Banda Ku (11K)",null,{"$f":"Datos!C69","v":3789},{"$f":"Datos!D69","v":0},{"$f":"Datos!E69","v":0},{"$f":"Datos!F69","v":0},{"$f":"Datos!G69","v":0},{"$f":"Datos!H69","v":0},{"$f":"Datos!I69","v":0},{"$f":"Datos!J69","v":0},{"$f":"Datos!K69","v":0},{"$f":"Datos!L69","v":0},{"$f":"Datos!M69","v":0},{"$f":"Datos!N69","v":0},{"$f":"Datos!O69","v":3789}]
[]
[]
[]
[]
[]
[]
[]
[]
[]
[]
[]
[]
[null,"VOLUMEN DE SERVICIOS MÓVILES SATELITALES"]
[null,"ENERO 2016"]
[]
[null,"SERVICIOS MÓVILES SATELITALES","Unidad de Medida",{"$f":"Datos!C85","v":2015}]
[null,null,null,"Ene","Feb","Mar","Abr","May","Jun","Jul","Ago","Sep","Oct","Nov","Dic","Total"]
[null,"MOVISAT VOZ"]
[null,"Minutos","Miles de minutos",{"$f":"Datos!C88","v":1327.9230000000002},{"$f":"Datos!D88","v":0},{"$f":"Datos!E88","v":0},{"$f":"Datos!F88","v":0},{"$f":"Datos!G88","v":0},{"$f":"Datos!H88","v":0},{"$f":"Datos!I88","v":0},{"$f":"Datos!J88","v":0},{"$f":"Datos!K88","v":0},{"$f":"Datos!L88","v":0},{"$f":"Datos!M88","v":0},{"$f":"Datos!N88","v":0},{"$f":"Datos!O88","v":1327.9230000000002}]
[null,"Telefonía Rural Banda Ku",null,{"$f":"Datos!C89","v":268.02300000000002},{"$f":"Datos!D89","v":0},{"$f":"Datos!E89","v":0},{"$f":"Datos!F89","v":0},{"$f":"Datos!G89","v":0},{"$f":"Datos!H89","v":0},{"$f":"Datos!I89","v":0},{"$f":"Datos!J89","v":0},{"$f":"Datos!K89","v":0},{"$f":"Datos!L89","v":0},{"$f":"Datos!M89","v":0},{"$f":"Datos!N89","v":0},{"$f":"Datos!O89","v":268.02300000000002}]
[null,"Telefonía Rural Banda Ku (11k)",null,{"$f":"Datos!C90","v":1059.9000000000001},{"$f":"Datos!D90","v":0},{"$f":"Datos!E90","v":0},{"$f":"Datos!F90","v":0},{"$f":"Datos!G90","v":0},{"$f":"Datos!H90","v":0},{"$f":"Datos!I90","v":0},{"$f":"Datos!J90","v":0},{"$f":"Datos!K90","v":0},{"$f":"Datos!L90","v":0},{"$f":"Datos!M90","v":0},{"$f":"Datos!N90","v":0},{"$f":"Datos!O90","v":1059.9000000000001}]
[]
[null,"SERVICIOS MÓVILES SATELITALES","Unidad de Medida",{"$f":"Datos!C78","v":2016}]
[null,null,null,"Ene","Feb","Mar","Abr","May","Jun","Jul","Ago","Sep","Oct","Nov","Dic","Total"]
[null,"MOVISAT VOZ"]
[null,"Minutos","Miles de minutos",{"$f":"Datos!C81","v":622.43000000000006},{"$f":"Datos!D81","v":0},{"$f":"Datos!E81","v":0},{"$f":"Datos!F81","v":0},{"$f":"Datos!G81","v":0},{"$f":"Datos!H81","v":0},{"$f":"Datos!I81","v":0},{"$f":"Datos!J81","v":0},{"$f":"Datos!K81","v":0},{"$f":"Datos!L81","v":0},{"$f":"Datos!M81","v":0},{"$f":"Datos!N81","v":0},{"$f":"Datos!O81","v":622.43000000000006}]
[null,"Telefonía Rural Banda Ku",null,{"$f":"Datos!C82","v":279.98099999999999},{"$f":"Datos!D82","v":0},{"$f":"Datos!E82","v":0},{"$f":"Datos!F82","v":0},{"$f":"Datos!G82","v":0},{"$f":"Datos!H82","v":0},{"$f":"Datos!I82","v":0},{"$f":"Datos!J82","v":0},{"$f":"Datos!K82","v":0},{"$f":"Datos!L82","v":0},{"$f":"Datos!M82","v":0},{"$f":"Datos!N82","v":0},{"$f":"Datos!O82","v":279.98099999999999}]
[null,"Telefonía Rural Banda Ku (11k)",null,{"$f":"Datos!C83","v":342.44900000000001},{"$f":"Datos!D83","v":0},{"$f":"Datos!E83","v":0},{"$f":"Datos!F83","v":0},{"$f":"Datos!G83","v":0},{"$f":"Datos!H83","v":0},{"$f":"Datos!I83","v":0},{"$f":"Datos!J83","v":0},{"$f":"Datos!K83","v":0},{"$f":"Datos!L83","v":0},{"$f":"Datos!M83","v":0},{"$f":"Datos!N83","v":0},{"$f":"Datos!O83","v":342.44900000000001}]
[]
[]
[]
[]
[]
[]
[]
[]
[]
[]
[]
[]
[null,"VOLUMEN DE SERVICIOS MÓVILES SATELITALES"]
[null,"ENERO 2016"]
[]
[null,"SERVICIOS MÓVILES SATELITALES","Unidad de Medida",{"$f":"Datos!C99","v":2015}]
[null,null,null,"Ene","Feb","Mar","Abr","May","Jun","Jul","Ago","Sep","Oct","Nov","Dic","Total"]
[null,"MOVISAT VOZ"]
[null,"Llamadas","Miles de llamadas",{"$f":"Datos!C102","v":471.02700000000004},{"$f":"Datos!D102","v":0},{"$f":"Datos!E102","v":0},{"$f":"Datos!F102","v":0},{"$f":"Datos!G102","v":0},{"$f":"Datos!H102","v":0},{"$f":"Datos!I102","v":0},{"$f":"Datos!J102","v":0},{"$f":"Datos!K102","v":0},{"$f":"Datos!L102","v":0},{"$f":"Datos!M102","v":0},{"$f":"Datos!N102","v":0},{"$f":"Datos!O102","v":471.02700000000004}]
[null,"Telefonía Rural Banda Ku",null,{"$f":"Datos!C103","v":65.129000000000005},{"$f":"Datos!D103","v":0},{"$f":"Datos!E103","v":0},{"$f":"Datos!F103","v":0},{"$f":"Datos!G103","v":0},{"$f":"Datos!H103","v":0},{"$f":"Datos!I103","v":0},{"$f":"Datos!J103","v":0},{"$f":"Datos!K103","v":0},{"$f":"Datos!L103","v":0},{"$f":"Datos!M103","v":0},{"$f":"Datos!N103","v":0},{"$f":"Datos!O103","v":65.129000000000005}]
[null,"Telefonía Rural Banda Ku (11k)",null,{"$f":"Datos!C104","v":405.89800000000002},{"$f":"Datos!D104","v":0},{"$f":"Datos!E104","v":0},{"$f":"Datos!F104","v":0},{"$f":"Datos!G104","v":0},{"$f":"Datos!H104","v":0},{"$f":"Datos!I104","v":0},{"$f":"Datos!J104","v":0},{"$f":"Datos!K104","v":0},{"$f":"Datos!L104","v":0},{"$f":"Datos!M104","v":0},{"$f":"Datos!N104","v":0},{"$f":"Datos!O104","v":405.89800000000002}]
[]
[null,"SERVICIOS MÓVILES SATELITALES","Unidad de Medida",{"$f":"Datos!C92","v":2016}]
[null,null,null,"Ene","Feb","Mar","Abr","May","Jun","Jul","Ago","Sep","Oct","Nov","Dic","Total"]
[null,"MOVISAT VOZ"]
[null," Llamadas","Miles de llamadas",{"$f":"Datos!C95","v":975.45799999999997},{"$f":"Datos!D95","v":0},{"$f":"Datos!E95","v":0},{"$f":"Datos!F95","v":0},{"$f":"Datos!G95","v":0},{"$f":"Datos!H95","v":0},{"$f":"Datos!I95","v":0},{"$f":"Datos!J95","v":0},{"$f":"Datos!K95","v":0},{"$f":"Datos!L95","v":0},{"$f":"Datos!M95","v":0},{"$f":"Datos!N95","v":0},{"$f":"Datos!O95","v":975.45799999999997}]
[null,"Telefonía Rural Banda Ku",null,{"$f":"Datos!C96","v":63.545000000000002},{"$f":"Datos!D96","v":0},{"$f":"Datos!E96","v":0},{"$f":"Datos!F96","v":0},{"$f":"Datos!G96","v":0},{"$f":"Datos!H96","v":0},{"$f":"Datos!I96","v":0},{"$f":"Datos!J96","v":0},{"$f":"Datos!K96","v":0},{"$f":"Datos!L96","v":0},{"$f":"Datos!M96","v":0},{"$f":"Datos!N96","v":0},{"$f":"Datos!O96","v":63.545000000000002}]
[null,"Telefonía Rural Banda Ku (11k)",null,{"$f":"Datos!C97","v":911.91300000000001},{"$f":"Datos!D97","v":0},{"$f":"Datos!E97","v":0},{"$f":"Datos!F97","v":0},{"$f":"Datos!G97","v":0},{"$f":"Datos!H97","v":0},{"$f":"Datos!I97","v":0},{"$f":"Datos!J97","v":0},{"$f":"Datos!K97","v":0},{"$f":"Datos!L97","v":0},{"$f":"Datos!M97","v":0},{"$f":"Datos!N97","v":0},{"$f":"Datos!O97","v":911.91300000000001}]
[]
[]
[]
[]
[]
[]
[]
[]
[]
[]
[]
[]
[null,"VOLUMEN DE SERVICIOS SATELITALES DE TELEPUERTOS"]
[null,"ENERO 2016"]
[]
[null,"TELEPUERTOS","Unidad de Medida",{"$f":"Datos!C107","v":2016}]
[null,null,null,"Ene","Feb","Mar","Abr","May","Jun","Jul","Ago","Sep","Oct","Nov","Dic","Total"]
[null,"Televisión"]
[null,"T.V Permanente","Red",{"$f":"Datos!C110","v":4},{"$f":"Datos!D110","v":0},{"$f":"Datos!E110","v":0},{"$f":"Datos!F110","v":0},{"$f":"Datos!G110","v":0},{"$f":"Datos!H110","v":0},{"$f":"Datos!I110","v":0},{"$f":"Datos!J110","v":0},{"$f":"Datos!K110","v":0},{"$f":"Datos!L110","v":0},{"$f":"Datos!M110","v":0},{"$f":"Datos!N110","v":0},{"$f":"Datos!O110","v":4}]
[null,"Enlaces locales","Enlaces",{"$f":"Datos!C111","v":22},{"$f":"Datos!D111","v":0},{"$f":"Datos!E111","v":0},{"$f":"Datos!F111","v":0},{"$f":"Datos!G111","v":0},{"$f":"Datos!H111","v":0},{"$f":"Datos!I111","v":0},{"$f":"Datos!J111","v":0},{"$f":"Datos!K111","v":0},{"$f":"Datos!L111","v":0},{"$f":"Datos!M111","v":0},{"$f":"Datos!N111","v":0},{"$f":"Datos!O111","v":22}]
[null,"Enrutamiento","Enlaces",{"$f":"Datos!C112","v":4},{"$f":"Datos!D112","v":0},{"$f":"Datos!E112","v":0},{"$f":"Datos!F112","v":0},{"$f":"Datos!G112","v":0},{"$f":"Datos!H112","v":0},{"$f":"Datos!I112","v":0},{"$f":"Datos!J112","v":0},{"$f":"Datos!K112","v":0},{"$f":"Datos!L112","v":0},{"$f":"Datos!M112","v":0},{"$f":"Datos!N112","v":0},{"$f":"Datos!O112","v":4}]
[null,"Estaciones Terrenas para Voz y Datos","Enlaces",{"$f":"Datos!C113","v":1},{"$f":"Datos!D113","v":0},{"$f":"Datos!E113","v":0},{"$f":"Datos!F113","v":0},{"$f":"Datos!G113","v":0},{"$f":"Datos!H113","v":0},{"$f":"Datos!I113","v":0},{"$f":"Datos!J113","v":0},{"$f":"Datos!K113","v":0},{"$f":"Datos!L113","v":0},{"$f":"Datos!M113","v":0},{"$f":"Datos!N113","v":0},{"$f":"Datos!O113","v":1}]
[null,"Estaciones Terrenas receptoras","Eventos",{"$f":"Datos!C114","v":1},{"$f":"Datos!D114","v":0},{"$f":"Datos!E114","v":0},{"$f":"Datos!F114","v":0},{"$f":"Datos!G114","v":0},{"$f":"Datos!H114","v":0},{"$f":"Datos!I114","v":0},{"$f":"Datos!J114","v":0},{"$f":"Datos!K114","v":0},{"$f":"Datos!L114","v":0},{"$f":"Datos!M114","v":0},{"$f":"Datos!N114","v":0},{"$f":"Datos!O114","v":1}]
[null,"Uso de capacidad satelital","Mhz.",{"$f":"Datos!C115","v":144},{"$f":"Datos!D115","v":0},{"$f":"Datos!E115","v":0},{"$f":"Datos!F115","v":0},{"$f":"Datos!G115","v":0},{"$f":"Datos!H115","v":0},{"$f":"Datos!I115","v":0},{"$f":"Datos!J115","v":0},{"$f":"Datos!K115","v":0},{"$f":"Datos!L115","v":0},{"$f":"Datos!M115","v":0},{"$f":"Datos!N115","v":0},{"$f":"Datos!O115","v":144}]
[null,"Interconexión de redes","Equipos",{"$f":"Datos!C116","v":16},{"$f":"Datos!D116","v":0},{"$f":"Datos!E116","v":0},{"$f":"Datos!F116","v":0},{"$f":"Datos!G116","v":0},{"$f":"Datos!H116","v":0},{"$f":"Datos!I116","v":0},{"$f":"Datos!J116","v":0},{"$f":"Datos!K116","v":0},{"$f":"Datos!L116","v":0},{"$f":"Datos!M116","v":0},{"$f":"Datos!N116","v":0},{"$f":"Datos!O116","v":16}]
[null,"T.V Ocasional","Eventos",{"$f":"Datos!C117","v":0},{"$f":"Datos!D117","v":0},{"$f":"Datos!E117","v":0},{"$f":"Datos!F117","v":0},{"$f":"Datos!G117","v":0},{"$f":"Datos!H117","v":0},{"$f":"Datos!I117","v":0},{"$f":"Datos!J117","v":0},{"$f":"Datos!K117","v":0},{"$f":"Datos!L117","v":0},{"$f":"Datos!M117","v":0},{"$f":"Datos!N117","v":0},{"$f":"Datos!O117","v":0}]
[null,"Giras Presidenciales","Giras",{"$f":"Datos!C118","v":6},{"$f":"Datos!D118","v":0},{"$f":"Datos!E118","v":0},{"$f":"Datos!F118","v":0},{"$f":"Datos!G118","v":0},{"$f":"Datos!H118","v":0},{"$f":"Datos!I118","v":0},{"$f":"Datos!J118","v":0},{"$f":"Datos!K118","v":0},{"$f":"Datos!L118","v":0},{"$f":"Datos!M118","v":0},{"$f":"Datos!N118","v":0},{"$f":"Datos!O118","v":6}]
[null,"Enlaces Terrenas Transportables","Renta",{"$f":"Datos!C119","v":0},{"$f":"Datos!D119","v":0},{"$f":"Datos!E119","v":0},{"$f":"Datos!F119","v":0},{"$f":"Datos!G119","v":0},{"$f":"Datos!H119","v":0},{"$f":"Datos!I119","v":0},{"$f":"Datos!J119","v":0},{"$f":"Datos!K119","v":0},{"$f":"Datos!L119","v":0},{"$f":"Datos!M119","v":0},{"$f":"Datos!N119","v":0},{"$f":"Datos!O119","v":0}]
[null,"  Tiempo de Arrendamiento","Días",{"$f":"Datos!C120","v":0},{"$f":"Datos!D120","v":0},{"$f":"Datos!E120","v":0},{"$f":"Datos!F120","v":0},{"$f":"Datos!G120","v":0},{"$f":"Datos!H120","v":0},{"$f":"Datos!I120","v":0},{"$f":"Datos!J120","v":0},{"$f":"Datos!K120","v":0},{"$f":"Datos!L120","v":0},{"$f":"Datos!M120","v":0},{"$f":"Datos!N120","v":0},{"$f":"Datos!O120","v":0}]
[null,"Centro de Datos","Unidad Interconexión (mts2)"]
[null,"Hosting",null,{"$f":"Datos!C122","v":122},{"$f":"Datos!D122","v":0},{"$f":"Datos!E122","v":0},{"$f":"Datos!F122","v":0},{"$f":"Datos!G122","v":0},{"$f":"Datos!H122","v":0},{"$f":"Datos!I122","v":0},{"$f":"Datos!J122","v":0},{"$f":"Datos!K122","v":0},{"$f":"Datos!L122","v":0},{"$f":"Datos!M122","v":0},{"$f":"Datos!N122","v":0},{"$f":"Datos!O122","v":122}]
[]
[null,"TELEPUERTOS","Unidad de Medida",{"$f":"Datos!T107","v":"VARIACIÓN 2016/2015 (%)"}]
[null,null,null,"Ene","Feb","Mar","Abr","May","Jun","Jul","Ago","Sep","Oct","Nov","Dic","Total"]
[null,"Televisión"]
[null,"T.V Permanente","Red",{"$f":"Datos!T110","v":0},{"$f":"Datos!U110","v":0},{"$f":"Datos!V110","v":0},{"$f":"Datos!W110","v":0},{"$f":"Datos!X110","v":0},{"$f":"Datos!Y110","v":0},{"$f":"Datos!Z110","v":0},{"$f":"Datos!AA110","v":0},{"$f":"Datos!AB110","v":0},{"$f":"Datos!AC110","v":0},{"$f":"Datos!AD110","v":0},{"$f":"Datos!AE110","v":0},{"$f":"Datos!AF110","v":0}]
[null,"Enlaces locales","Enlaces",{"$f":"Datos!T111","v":0},{"$f":"Datos!U111","v":0},{"$f":"Datos!V111","v":0},{"$f":"Datos!W111","v":0},{"$f":"Datos!X111","v":0},{"$f":"Datos!Y111","v":0},{"$f":"Datos!Z111","v":0},{"$f":"Datos!AA111","v":0},{"$f":"Datos!AB111","v":0},{"$f":"Datos!AC111","v":0},{"$f":"Datos!AD111","v":0},{"$f":"Datos!AE111","v":0},{"$f":"Datos!AF111","v":0}]
[null,"Enrutamiento","Enlaces",{"$f":"Datos!T112","v":33.333333333333329},{"$f":"Datos!U112","v":0},{"$f":"Datos!V112","v":0},{"$f":"Datos!W112","v":0},{"$f":"Datos!X112","v":0},{"$f":"Datos!Y112","v":0},{"$f":"Datos!Z112","v":0},{"$f":"Datos!AA112","v":0},{"$f":"Datos!AB112","v":0},{"$f":"Datos!AC112","v":0},{"$f":"Datos!AD112","v":0},{"$f":"Datos!AE112","v":0},{"$f":"Datos!AF112","v":33.333333333333329}]
[null,"Estaciones Terrenas para Voz y Datos","Enlaces",{"$f":"Datos!T113","v":0},{"$f":"Datos!U113","v":0},{"$f":"Datos!V113","v":0},{"$f":"Datos!W113","v":0},{"$f":"Datos!X113","v":0},{"$f":"Datos!Y113","v":0},{"$f":"Datos!Z113","v":0},{"$f":"Datos!AA113","v":0},{"$f":"Datos!AB113","v":0},{"$f":"Datos!AC113","v":0},{"$f":"Datos!AD113","v":0},{"$f":"Datos!AE113","v":0},{"$f":"Datos!AF113","v":0}]
[null,"Estaciones Terrenas receptoras","Eventos",{"$f":"Datos!T114","v":0},{"$f":"Datos!U114","v":0},{"$f":"Datos!V114","v":0},{"$f":"Datos!W114","v":0},{"$f":"Datos!X114","v":0},{"$f":"Datos!Y114","v":0},{"$f":"Datos!Z114","v":0},{"$f":"Datos!AA114","v":0},{"$f":"Datos!AB114","v":0},{"$f":"Datos!AC114","v":0},{"$f":"Datos!AD114","v":0},{"$f":"Datos!AE114","v":0},{"$f":"Datos!AF114","v":0}]
[null,"Uso de capacidad satelital","Mhz.",{"$f":"Datos!T115","v":14.204139900071366},{"$f":"Datos!U115","v":0},{"$f":"Datos!V115","v":0},{"$f":"Datos!W115","v":0},{"$f":"Datos!X115","v":0},{"$f":"Datos!Y115","v":0},{"$f":"Datos!Z115","v":0},{"$f":"Datos!AA115","v":0},{"$f":"Datos!AB115","v":0},{"$f":"Datos!AC115","v":0},{"$f":"Datos!AD115","v":0},{"$f":"Datos!AE115","v":0},{"$f":"Datos!AF115","v":14.204139900071366}]
[null,"Interconexión de redes","Equipos",{"$f":"Datos!T116","v":6.6666666666666652},{"$f":"Datos!U116","v":0},{"$f":"Datos!V116","v":0},{"$f":"Datos!W116","v":0},{"$f":"Datos!X116","v":0},{"$f":"Datos!Y116","v":0},{"$f":"Datos!Z116","v":0},{"$f":"Datos!AA116","v":0},{"$f":"Datos!AB116","v":0},{"$f":"Datos!AC116","v":0},{"$f":"Datos!AD116","v":0},{"$f":"Datos!AE116","v":0},{"$f":"Datos!AF116","v":6.6666666666666652}]
[null,"T.V Ocasional","Eventos",{"$f":"Datos!T117","v":0},{"$f":"Datos!U117","v":0},{"$f":"Datos!V117","v":0},{"$f":"Datos!W117","v":0},{"$f":"Datos!X117","v":0},{"$f":"Datos!Y117","v":0},{"$f":"Datos!Z117","v":0},{"$f":"Datos!AA117","v":0},{"$f":"Datos!AB117","v":0},{"$f":"Datos!AC117","v":0},{"$f":"Datos!AD117","v":0},{"$f":"Datos!AE117","v":0},{"$f":"Datos!AF117","v":0}]
[null,"Giras Presidenciales","Giras",{"$f":"Datos!T118","v":0},{"$f":"Datos!U118","v":0},{"$f":"Datos!V118","v":0},{"$f":"Datos!W118","v":0},{"$f":"Datos!X118","v":0},{"$f":"Datos!Y118","v":0},{"$f":"Datos!Z118","v":0},{"$f":"Datos!AA118","v":0},{"$f":"Datos!AB118","v":0},{"$f":"Datos!AC118","v":0},{"$f":"Datos!AD118","v":0},{"$f":"Datos!AE118","v":0},{"$f":"Datos!AF118","v":0}]
[null,"Enlaces Terrenas Transportables","Renta",{"$f":"Datos!T119","v":0},{"$f":"Datos!U119","v":0},{"$f":"Datos!V119","v":0},{"$f":"Datos!W119","v":0},{"$f":"Datos!X119","v":0},{"$f":"Datos!Y119","v":0},{"$f":"Datos!Z119","v":0},{"$f":"Datos!AA119","v":0},{"$f":"Datos!AB119","v":0},{"$f":"Datos!AC119","v":0},{"$f":"Datos!AD119","v":0},{"$f":"Datos!AE119","v":0},{"$f":"Datos!AF119","v":0}]
[null,"  Tiempo de Arrendamiento","Días",{"$f":"Datos!T120","v":0},{"$f":"Datos!U120","v":0},{"$f":"Datos!V120","v":0},{"$f":"Datos!W120","v":0},{"$f":"Datos!X120","v":0},{"$f":"Datos!Y120","v":0},{"$f":"Datos!Z120","v":0},{"$f":"Datos!AA120","v":0},{"$f":"Datos!AB120","v":0},{"$f":"Datos!AC120","v":0},{"$f":"Datos!AD120","v":0},{"$f":"Datos!AE120","v":0},{"$f":"Datos!AF120","v":0}]
[null,"Centro de Datos","Unidad Interconexión (mts2)"]
[null,"Hosting",null,{"$f":"Datos!T122","v":0},{"$f":"Datos!U122","v":0},{"$f":"Datos!V122","v":0},{"$f":"Datos!W122","v":0},{"$f":"Datos!X122","v":0},{"$f":"Datos!Y122","v":0},{"$f":"Datos!Z122","v":0},{"$f":"Datos!AA122","v":0},{"$f":"Datos!AB122","v":0},{"$f":"Datos!AC122","v":0},{"$f":"Datos!AD122","v":0},{"$f":"Datos!AE122","v":0},{"$f":"Datos!AF122","v":0}]